BEGIN:VCALENDAR
VERSION:2.0
PRODID:-//Streamline Insurance Solutions - ECPv6.13.1//NONSGML v1.0//EN
CALSCALE:GREGORIAN
METHOD:PUBLISH
X-ORIGINAL-URL:https://www.streamline-ins.com
X-WR-CALDESC:Events for Streamline Insurance Solutions
REFRESH-INTERVAL;VALUE=DURATION:PT1H
X-Robots-Tag:noindex
X-PUBLISHED-TTL:PT1H
BEGIN:VTIMEZONE
TZID:America/Chicago
BEGIN:DAYLIGHT
TZOFFSETFROM:-0600
TZOFFSETTO:-0500
TZNAME:CDT
DTSTART:20260308T080000
END:DAYLIGHT
BEGIN:STANDARD
TZOFFSETFROM:-0500
TZOFFSETTO:-0600
TZNAME:CST
DTSTART:20261101T070000
END:STANDARD
END:VTIMEZONE
BEGIN:VEVENT
DTSTART;TZID=America/Chicago:20260305T173000
DTEND;TZID=America/Chicago:20260305T183000
DTSTAMP:20260421T063432
CREATED:20260218T024242Z
LAST-MODIFIED:20260218T024242Z
UID:3150-1772731800-1772735400@www.streamline-ins.com
SUMMARY:Maximize your social security
DESCRIPTION:Join us for Maximize Your Social Security Benefits & Retirement Income\, a complimentary educational event designed to help you make informed decisions about your financial future. Social Security is a key income source for most retirees\, but the right claiming strategy can make a significant difference. This complimentary educational event will cover essential strategies for maximizing your benefits\, coordinating Social Security with other income sources\, and protecting your retirement assets from market volatility.
URL:https://www.streamline-ins.com/event/maximize-your-social-security-22/
LOCATION:Harrod Event Center\, 9520 Harrod Rd.\, Harrod\, Ohio\, 45850
END:VEVENT
BEGIN:VEVENT
DTSTART;TZID=America/Chicago:20260309T173000
DTEND;TZID=America/Chicago:20260309T183000
DTSTAMP:20260421T063432
CREATED:20260221T210254Z
LAST-MODIFIED:20260221T210254Z
UID:3157-1773077400-1773081000@www.streamline-ins.com
SUMMARY:Maximize Your Social Security
DESCRIPTION:Join us for Maximize Your Social Security Benefits & Retirement Income\, a complimentary educational event designed to help you make informed decisions about your financial future. Social Security is a key income source for most retirees\, but the right claiming strategy can make a significant difference. This complimentary educational event will cover essential strategies for maximizing your benefits\, coordinating Social Security with other income sources\, and protecting your retirement assets from market volatility.\n\nArtist Hall Room 601
URL:https://www.streamline-ins.com/event/maximize-your-social-security-24/
LOCATION:Mid Ohio Conference Center\, 890 West 4th Street\, Mansfield\, OH\, 44903\, United States
END:VEVENT
BEGIN:VEVENT
DTSTART;TZID=America/Chicago:20260312T173000
DTEND;TZID=America/Chicago:20260312T183000
DTSTAMP:20260421T063432
CREATED:20260218T024422Z
LAST-MODIFIED:20260218T024422Z
UID:3154-1773336600-1773340200@www.streamline-ins.com
SUMMARY:Maximize your social security
DESCRIPTION:Join us for Maximize Your Social Security Benefits & Retirement Income\, a complimentary educational event designed to help you make informed decisions about your financial future. Social Security is a key income source for most retirees\, but the right claiming strategy can make a significant difference. This complimentary educational event will cover essential strategies for maximizing your benefits\, coordinating Social Security with other income sources\, and protecting your retirement assets from market volatility.
URL:https://www.streamline-ins.com/event/maximize-your-social-security-23/
LOCATION:The Inn\, 401 West College Avenue\, Ada\, OH\, 45810\, United States
END:VEVENT
BEGIN:VEVENT
DTSTART;TZID=America/Chicago:20260324T173000
DTEND;TZID=America/Chicago:20260324T183000
DTSTAMP:20260421T063432
CREATED:20260221T210457Z
LAST-MODIFIED:20260221T210457Z
UID:3159-1774373400-1774377000@www.streamline-ins.com
SUMMARY:Maximize Your Social Security
DESCRIPTION:Join us for Maximize Your Social Security Benefits & Retirement Income\, a complimentary educational event designed to help you make informed decisions about your financial future. Social Security is a key income source for most retirees\, but the right claiming strategy can make a significant difference. This complimentary educational event will cover essential strategies for maximizing your benefits\, coordinating Social Security with other income sources\, and protecting your retirement assets from market volatility. \n\n\n\n\nArtist Hall Room 601
URL:https://www.streamline-ins.com/event/maximize-your-social-security-25/
LOCATION:Mid Ohio Conference Center\, 890 West 4th Street\, Mansfield\, OH\, 44903\, United States
END:VEVENT
END:VCALENDAR