BEGIN:VCALENDAR
VERSION:2.0
PRODID:-//Streamline Insurance Solutions - ECPv6.13.1//NONSGML v1.0//EN
CALSCALE:GREGORIAN
METHOD:PUBLISH
X-ORIGINAL-URL:https://www.streamline-ins.com
X-WR-CALDESC:Events for Streamline Insurance Solutions
REFRESH-INTERVAL;VALUE=DURATION:PT1H
X-Robots-Tag:noindex
X-PUBLISHED-TTL:PT1H
BEGIN:VTIMEZONE
TZID:America/Chicago
BEGIN:DAYLIGHT
TZOFFSETFROM:-0600
TZOFFSETTO:-0500
TZNAME:CDT
DTSTART:20260308T080000
END:DAYLIGHT
BEGIN:STANDARD
TZOFFSETFROM:-0500
TZOFFSETTO:-0600
TZNAME:CST
DTSTART:20261101T070000
END:STANDARD
END:VTIMEZONE
BEGIN:VEVENT
DTSTART;TZID=America/Chicago:20260112T180000
DTEND;TZID=America/Chicago:20260112T190000
DTSTAMP:20260421T091712
CREATED:20251218T163323Z
LAST-MODIFIED:20251218T163323Z
UID:3124-1768240800-1768244400@www.streamline-ins.com
SUMMARY:Maximize Your Social Security
DESCRIPTION:Join us for Maximize Your Social Security Benefits & Retirement Income\, a complimentary educational event designed to help you make informed decisions about your financial future. Social Security is a key income source for most retirees\, but the right claiming strategy can make a significant difference. This complimentary educational event will cover essential strategies for maximizing your benefits\, coordinating Social Security with other income sources\, and protecting your retirement assets from market volatility.\n\nArtist Hall Room 601
URL:https://www.streamline-ins.com/event/maximize-your-social-security-16/
LOCATION:Mid Ohio Conference Center\, 890 West 4th Street\, Mansfield\, OH\, 44903\, United States
END:VEVENT
END:VCALENDAR