BEGIN:VCALENDAR
VERSION:2.0
PRODID:-//Streamline Insurance Solutions - ECPv6.13.1//NONSGML v1.0//EN
CALSCALE:GREGORIAN
METHOD:PUBLISH
X-WR-CALNAME:Streamline Insurance Solutions
X-ORIGINAL-URL:https://www.streamline-ins.com
X-WR-CALDESC:Events for Streamline Insurance Solutions
REFRESH-INTERVAL;VALUE=DURATION:PT1H
X-Robots-Tag:noindex
X-PUBLISHED-TTL:PT1H
BEGIN:VTIMEZONE
TZID:America/Chicago
BEGIN:DAYLIGHT
TZOFFSETFROM:-0600
TZOFFSETTO:-0500
TZNAME:CDT
DTSTART:20250309T080000
END:DAYLIGHT
BEGIN:STANDARD
TZOFFSETFROM:-0500
TZOFFSETTO:-0600
TZNAME:CST
DTSTART:20251102T070000
END:STANDARD
END:VTIMEZONE
BEGIN:VEVENT
DTSTART;TZID=America/Chicago:20251002T173000
DTEND;TZID=America/Chicago:20251002T183000
DTSTAMP:20260421T140117
CREATED:20250914T005856Z
LAST-MODIFIED:20250914T005856Z
UID:3094-1759426200-1759429800@www.streamline-ins.com
SUMMARY:Maximize your social security
DESCRIPTION:Join us for Maximize Your Social Security Benefits & Retirement Income\, a complimentary educational event designed to help you make informed decisions about your financial future. Social Security is a key income source for most retirees\, but the right claiming strategy can make a significant difference. This complimentary educational event will cover essential strategies for maximizing your benefits\, coordinating Social Security with other income sources\, and protecting your retirement assets from market volatility.
URL:https://www.streamline-ins.com/event/maximize-your-social-security-9/
LOCATION:The Inn\, 401 West College Avenue\, Ada\, OH\, 45810\, United States
END:VEVENT
BEGIN:VEVENT
DTSTART;TZID=America/Chicago:20251016T173000
DTEND;TZID=America/Chicago:20251016T183000
DTSTAMP:20260421T140117
CREATED:20251009T180422Z
LAST-MODIFIED:20251009T180422Z
UID:3102-1760635800-1760639400@www.streamline-ins.com
SUMMARY:Maximize your social security
DESCRIPTION:Join us for Maximize Your Social Security Benefits & Retirement Income\, a complimentary educational event designed to help you make informed decisions about your financial future. Social Security is a key income source for most retirees\, but the right claiming strategy can make a significant difference. This complimentary educational event will cover essential strategies for maximizing your benefits\, coordinating Social Security with other income sources\, and protecting your retirement assets from market volatility. \n  \nEducation Center Building Room EC 174
URL:https://www.streamline-ins.com/event/maximize-your-social-security-10/
LOCATION:Owens Community College (Findlay)\, 3200 Bright Road\, Findlay\, OH\, 45840\, United States
END:VEVENT
BEGIN:VEVENT
DTSTART;TZID=America/Chicago:20251027T180000
DTEND;TZID=America/Chicago:20251027T190000
DTSTAMP:20260421T140117
CREATED:20251009T180645Z
LAST-MODIFIED:20251009T180645Z
UID:3104-1761588000-1761591600@www.streamline-ins.com
SUMMARY:Maximize your social security
DESCRIPTION:Join us for Maximize Your Social Security Benefits & Retirement Income\, a complimentary educational event designed to help you make informed decisions about your financial future. Social Security is a key income source for most retirees\, but the right claiming strategy can make a significant difference. This complimentary educational event will cover essential strategies for maximizing your benefits\, coordinating Social Security with other income sources\, and protecting your retirement assets from market volatility.
URL:https://www.streamline-ins.com/event/maximize-your-social-security-11/
LOCATION:The Ashland Theatre\, 212 Center Street\, Ashland\, OH\, 44805\, United States
END:VEVENT
BEGIN:VEVENT
DTSTART;TZID=America/Chicago:20251028T173000
DTEND;TZID=America/Chicago:20251028T183000
DTSTAMP:20260421T140117
CREATED:20251009T181040Z
LAST-MODIFIED:20251009T181040Z
UID:3106-1761672600-1761676200@www.streamline-ins.com
SUMMARY:Maximize your social security
DESCRIPTION:Join us for Maximize Your Social Security Benefits & Retirement Income\, a complimentary educational event designed to help you make informed decisions about your financial future. Social Security is a key income source for most retirees\, but the right claiming strategy can make a significant difference. This complimentary educational event will cover essential strategies for maximizing your benefits\, coordinating Social Security with other income sources\, and protecting your retirement assets from market volatility.
URL:https://www.streamline-ins.com/event/maximize-your-social-security-12/
LOCATION:The Old Bag of Nails\, 625 Lexington Avenue\, Mansfield\, OH\, 44907\, United States
END:VEVENT
END:VCALENDAR