BEGIN:VCALENDAR
VERSION:2.0
PRODID:-//Streamline Insurance Solutions - ECPv6.13.1//NONSGML v1.0//EN
CALSCALE:GREGORIAN
METHOD:PUBLISH
X-WR-CALNAME:Streamline Insurance Solutions
X-ORIGINAL-URL:https://www.streamline-ins.com
X-WR-CALDESC:Events for Streamline Insurance Solutions
REFRESH-INTERVAL;VALUE=DURATION:PT1H
X-Robots-Tag:noindex
X-PUBLISHED-TTL:PT1H
BEGIN:VTIMEZONE
TZID:America/Chicago
BEGIN:DAYLIGHT
TZOFFSETFROM:-0600
TZOFFSETTO:-0500
TZNAME:CDT
DTSTART:20250309T080000
END:DAYLIGHT
BEGIN:STANDARD
TZOFFSETFROM:-0500
TZOFFSETTO:-0600
TZNAME:CST
DTSTART:20251102T070000
END:STANDARD
END:VTIMEZONE
BEGIN:VEVENT
DTSTART;TZID=America/Chicago:20250911T173000
DTEND;TZID=America/Chicago:20250911T183000
DTSTAMP:20260421T151735
CREATED:20250830T233742Z
LAST-MODIFIED:20250830T233742Z
UID:3059-1757611800-1757615400@www.streamline-ins.com
SUMMARY:Maximize your social security
DESCRIPTION:Join us for Maximize Your Social Security Benefits & Retirement Income\, a complimentary educational event designed to help you make informed decisions about your financial future. Social Security is a key income source for most retirees\, but the right claiming strategy can make a significant difference. This complimentary educational event will cover essential strategies for maximizing your benefits\, coordinating Social Security with other income sources\, and protecting your retirement assets from market volatility.
URL:https://www.streamline-ins.com/event/maximize-your-social-security-5/
LOCATION:Hudson and Essex\, 51 E 4th Street\, Mansfield\, OH\, 44902\, United States
END:VEVENT
BEGIN:VEVENT
DTSTART;TZID=America/Chicago:20250916T173000
DTEND;TZID=America/Chicago:20250916T183000
DTSTAMP:20260421T151735
CREATED:20250904T182122Z
LAST-MODIFIED:20250904T183046Z
UID:3063-1758043800-1758047400@www.streamline-ins.com
SUMMARY:Maximize your social security
DESCRIPTION:Join us for Maximize Your Social Security Benefits & Retirement Income\, a complimentary educational event designed to help you make informed decisions about your financial future. Social Security is a key income source for most retirees\, but the right claiming strategy can make a significant difference. This complimentary educational event will cover essential strategies for maximizing your benefits\, coordinating Social Security with other income sources\, and protecting your retirement assets from market volatility.
URL:https://www.streamline-ins.com/event/maximize-your-social-security-6/
LOCATION:Der Dutchman\, 720 State Rte 97 W\, Bellville\, OH\, 44813\, United States
END:VEVENT
BEGIN:VEVENT
DTSTART;TZID=America/Chicago:20250918T173000
DTEND;TZID=America/Chicago:20250918T183000
DTSTAMP:20260421T151735
CREATED:20250908T185653Z
LAST-MODIFIED:20250908T185653Z
UID:3090-1758216600-1758220200@www.streamline-ins.com
SUMMARY:Maximize your social security
DESCRIPTION:Join us for Maximize Your Social Security Benefits & Retirement Income\, a complimentary educational event designed to help you make informed decisions about your financial future. Social Security is a key income source for most retirees\, but the right claiming strategy can make a significant difference. This complimentary educational event will cover essential strategies for maximizing your benefits\, coordinating Social Security with other income sources\, and protecting your retirement assets from market volatility. \n  \n  \nEducation Center Building Room EC 174
URL:https://www.streamline-ins.com/event/maximize-your-social-security-8/
LOCATION:Owens Community College (Findlay)\, 3200 Bright Road\, Findlay\, OH\, 45840\, United States
END:VEVENT
BEGIN:VEVENT
DTSTART;TZID=America/Chicago:20250922T173000
DTEND;TZID=America/Chicago:20250922T183000
DTSTAMP:20260421T151735
CREATED:20250904T182952Z
LAST-MODIFIED:20250904T182952Z
UID:3067-1758562200-1758565800@www.streamline-ins.com
SUMMARY:Maximize your social security
DESCRIPTION:Join us for Maximize Your Social Security Benefits & Retirement Income\, a complimentary educational event designed to help you make informed decisions about your financial future. Social Security is a key income source for most retirees\, but the right claiming strategy can make a significant difference. This complimentary educational event will cover essential strategies for maximizing your benefits\, coordinating Social Security with other income sources\, and protecting your retirement assets from market volatility.
URL:https://www.streamline-ins.com/event/maximize-your-social-security-7/
LOCATION:The Ashland Theatre\, 212 Center Street\, Ashland\, OH\, 44805\, United States
END:VEVENT
END:VCALENDAR