BEGIN:VCALENDAR
VERSION:2.0
PRODID:-//Streamline Insurance Solutions - ECPv6.13.1//NONSGML v1.0//EN
CALSCALE:GREGORIAN
METHOD:PUBLISH
X-WR-CALNAME:Streamline Insurance Solutions
X-ORIGINAL-URL:https://www.streamline-ins.com
X-WR-CALDESC:Events for Streamline Insurance Solutions
REFRESH-INTERVAL;VALUE=DURATION:PT1H
X-Robots-Tag:noindex
X-PUBLISHED-TTL:PT1H
BEGIN:VTIMEZONE
TZID:America/Chicago
BEGIN:DAYLIGHT
TZOFFSETFROM:-0600
TZOFFSETTO:-0500
TZNAME:CDT
DTSTART:20250309T080000
END:DAYLIGHT
BEGIN:STANDARD
TZOFFSETFROM:-0500
TZOFFSETTO:-0600
TZNAME:CST
DTSTART:20251102T070000
END:STANDARD
END:VTIMEZONE
BEGIN:VEVENT
DTSTART;TZID=America/Chicago:20250327T180000
DTEND;TZID=America/Chicago:20250327T190000
DTSTAMP:20260423T033439
CREATED:20250303T222558Z
LAST-MODIFIED:20250311T165808Z
UID:2976-1743098400-1743102000@www.streamline-ins.com
SUMMARY:Aim High: Maximize your social security and protect your retireme
DESCRIPTION:Join us for Aim High: Maximize Your Social Security & Protect Your Retirement\, an educational event designed to help you make the most of your benefits. With recent changes to Social Security laws\, understanding your claiming options is more important than ever. Learn strategies to reduce taxes on your benefits\, maximize what you’re entitled to\, and navigate the latest updates—including the Social Security Fairness Act.
URL:https://www.streamline-ins.com/event/aim-high-maximize-your-social-security-and-protect-your-retireme/
LOCATION:Hesseling & Sons Firearms and Gunsmithing\, Lima\, OH\, United States
END:VEVENT
BEGIN:VEVENT
DTSTART;TZID=America/Chicago:20250325T180000
DTEND;TZID=America/Chicago:20250325T190000
DTSTAMP:20260423T033439
CREATED:20250303T222215Z
LAST-MODIFIED:20250311T152304Z
UID:2974-1742925600-1742929200@www.streamline-ins.com
SUMMARY:Perserve family harmony and protect your family legacy
DESCRIPTION:
URL:https://www.streamline-ins.com/event/perserve-family-harmony-and-protect-your-family-legacy/
LOCATION:The Mansfield Fire Museum\, Mansfield\, OH\, United States
END:VEVENT
END:VCALENDAR