BEGIN:VCALENDAR
VERSION:2.0
PRODID:-//Streamline Insurance Solutions - ECPv6.13.1//NONSGML v1.0//EN
CALSCALE:GREGORIAN
METHOD:PUBLISH
X-WR-CALNAME:Streamline Insurance Solutions
X-ORIGINAL-URL:https://www.streamline-ins.com
X-WR-CALDESC:Events for Streamline Insurance Solutions
REFRESH-INTERVAL;VALUE=DURATION:PT1H
X-Robots-Tag:noindex
X-PUBLISHED-TTL:PT1H
BEGIN:VTIMEZONE
TZID:America/Chicago
BEGIN:DAYLIGHT
TZOFFSETFROM:-0600
TZOFFSETTO:-0500
TZNAME:CDT
DTSTART:20250309T080000
END:DAYLIGHT
BEGIN:STANDARD
TZOFFSETFROM:-0500
TZOFFSETTO:-0600
TZNAME:CST
DTSTART:20251102T070000
END:STANDARD
END:VTIMEZONE
BEGIN:VEVENT
DTSTART;TZID=America/Chicago:20250911T173000
DTEND;TZID=America/Chicago:20250911T183000
DTSTAMP:20260421T132843
CREATED:20250830T233742Z
LAST-MODIFIED:20250830T233742Z
UID:3059-1757611800-1757615400@www.streamline-ins.com
SUMMARY:Maximize your social security
DESCRIPTION:Join us for Maximize Your Social Security Benefits & Retirement Income\, a complimentary educational event designed to help you make informed decisions about your financial future. Social Security is a key income source for most retirees\, but the right claiming strategy can make a significant difference. This complimentary educational event will cover essential strategies for maximizing your benefits\, coordinating Social Security with other income sources\, and protecting your retirement assets from market volatility.
URL:https://www.streamline-ins.com/event/maximize-your-social-security-5/
LOCATION:Hudson and Essex\, 51 E 4th Street\, Mansfield\, OH\, 44902\, United States
END:VEVENT
BEGIN:VEVENT
DTSTART;TZID=America/Chicago:20250827T173000
DTEND;TZID=America/Chicago:20250827T183000
DTSTAMP:20260421T132843
CREATED:20250708T205353Z
LAST-MODIFIED:20250708T205353Z
UID:3056-1756315800-1756319400@www.streamline-ins.com
SUMMARY:Maximize your social security
DESCRIPTION:Join us for Maximize Your Social Security Benefits & Retirement Income\, a complimentary educational event designed to help you make informed decisions about your financial future. Social Security is a key income source for most retirees\, but the right claiming strategy can make a significant difference. This complimentary educational event will cover essential strategies for maximizing your benefits\, coordinating Social Security with other income sources\, and protecting your retirement assets from market volatility.
URL:https://www.streamline-ins.com/event/maximize-your-social-security-4/
LOCATION:The Mansfield Fire Museum\, Mansfield\, OH\, United States
END:VEVENT
BEGIN:VEVENT
DTSTART;TZID=America/Chicago:20250820T173000
DTEND;TZID=America/Chicago:20250820T183000
DTSTAMP:20260421T132843
CREATED:20250708T205153Z
LAST-MODIFIED:20250708T205153Z
UID:3053-1755711000-1755714600@www.streamline-ins.com
SUMMARY:Aim High: Maximize your social security and protect your retirement
DESCRIPTION:Join us for Aim High: Maximize Your Social Security & Protect Your Retirement\, an educational event designed to help you make the most of your benefits. With recent changes to Social Security laws\, understanding your claiming options is more important than ever. Learn strategies to reduce taxes on your benefits\, maximize what you’re entitled to\, and navigate the latest updates—including the Social Security Fairness Act.
URL:https://www.streamline-ins.com/event/aim-high-maximize-your-social-security-and-protect-your-retirement-3/
LOCATION:Hesseling & Sons Firearms and Gunsmithing\, Lima\, OH\, United States
END:VEVENT
BEGIN:VEVENT
DTSTART;TZID=America/Chicago:20250806T173000
DTEND;TZID=America/Chicago:20250806T183000
DTSTAMP:20260421T132843
CREATED:20250708T205036Z
LAST-MODIFIED:20250708T205036Z
UID:3051-1754501400-1754505000@www.streamline-ins.com
SUMMARY:Aim High: Maximize your social security and protect your retirement
DESCRIPTION:Join us for Aim High: Maximize Your Social Security & Protect Your Retirement\, an educational event designed to help you make the most of your benefits. With recent changes to Social Security laws\, understanding your claiming options is more important than ever. Learn strategies to reduce taxes on your benefits\, maximize what you’re entitled to\, and navigate the latest updates—including the Social Security Fairness Act.
URL:https://www.streamline-ins.com/event/aim-high-maximize-your-social-security-and-protect-your-retirement-2/
LOCATION:Hesseling & Sons Firearms and Gunsmithing\, Lima\, OH\, United States
END:VEVENT
BEGIN:VEVENT
DTSTART;TZID=America/Chicago:20250731T173000
DTEND;TZID=America/Chicago:20250731T183000
DTSTAMP:20260421T132843
CREATED:20250708T204847Z
LAST-MODIFIED:20250708T204847Z
UID:3049-1753983000-1753986600@www.streamline-ins.com
SUMMARY:Aim High: Maximize your social security and protect your retirement
DESCRIPTION:Join us for Aim High: Maximize Your Social Security & Protect Your Retirement\, an educational event designed to help you make the most of your benefits. With recent changes to Social Security laws\, understanding your claiming options is more important than ever. Learn strategies to reduce taxes on your benefits\, maximize what you’re entitled to\, and navigate the latest updates—including the Social Security Fairness Act.
URL:https://www.streamline-ins.com/event/aim-high-maximize-your-social-security-and-protect-your-retirement/
LOCATION:Hesseling & Sons Firearms and Gunsmithing\, Lima\, OH\, United States
END:VEVENT
BEGIN:VEVENT
DTSTART;TZID=America/Chicago:20250729T173000
DTEND;TZID=America/Chicago:20250729T183000
DTSTAMP:20260421T132843
CREATED:20250708T204502Z
LAST-MODIFIED:20250708T204502Z
UID:3047-1753810200-1753813800@www.streamline-ins.com
SUMMARY:Maximize your social security
DESCRIPTION:Join us for Maximize Your Social Security Benefits & Retirement Income\, a complimentary educational event designed to help you make informed decisions about your financial future. Social Security is a key income source for most retirees\, but the right claiming strategy can make a significant difference. This complimentary educational event will cover essential strategies for maximizing your benefits\, coordinating Social Security with other income sources\, and protecting your retirement assets from market volatility.
URL:https://www.streamline-ins.com/event/maximize-your-social-security-3/
LOCATION:The Mansfield Fire Museum\, Mansfield\, OH\, United States
END:VEVENT
BEGIN:VEVENT
DTSTART;TZID=America/Chicago:20250716T173000
DTEND;TZID=America/Chicago:20250716T183000
DTSTAMP:20260421T132843
CREATED:20250708T204111Z
LAST-MODIFIED:20250708T204111Z
UID:3045-1752687000-1752690600@www.streamline-ins.com
SUMMARY:Maximize your social security
DESCRIPTION:Join us for Maximize Your Social Security Benefits & Retirement Income\, a complimentary educational event designed to help you make informed decisions about your financial future. Social Security is a key income source for most retirees\, but the right claiming strategy can make a significant difference. This complimentary educational event will cover essential strategies for maximizing your benefits\, coordinating Social Security with other income sources\, and protecting your retirement assets from market volatility.
URL:https://www.streamline-ins.com/event/maximize-your-social-security-2/
LOCATION:The Mansfield Fire Museum\, Mansfield\, OH\, United States
END:VEVENT
BEGIN:VEVENT
DTSTART;TZID=America/Chicago:20250401T180000
DTEND;TZID=America/Chicago:20250401T190000
DTSTAMP:20260421T132843
CREATED:20250303T222630Z
LAST-MODIFIED:20250311T165854Z
UID:2978-1743530400-1743534000@www.streamline-ins.com
SUMMARY:Maximize your social security
DESCRIPTION:Join us for Maximize Your Social Security Benefits & Retirement Income\, a complimentary educational event designed to help you make informed decisions about your financial future. Social Security is a key income source for most retirees\, but the right claiming strategy can make a significant difference. This complimentary educational event will cover essential strategies for maximizing your benefits\, coordinating Social Security with other income sources\, and protecting your retirement assets from market volatility.
URL:https://www.streamline-ins.com/event/maximize-your-social-security/
LOCATION:The Mansfield Fire Museum\, Mansfield\, OH\, United States
END:VEVENT
BEGIN:VEVENT
DTSTART;TZID=America/Chicago:20250327T180000
DTEND;TZID=America/Chicago:20250327T190000
DTSTAMP:20260421T132843
CREATED:20250303T222558Z
LAST-MODIFIED:20250311T165808Z
UID:2976-1743098400-1743102000@www.streamline-ins.com
SUMMARY:Aim High: Maximize your social security and protect your retireme
DESCRIPTION:Join us for Aim High: Maximize Your Social Security & Protect Your Retirement\, an educational event designed to help you make the most of your benefits. With recent changes to Social Security laws\, understanding your claiming options is more important than ever. Learn strategies to reduce taxes on your benefits\, maximize what you’re entitled to\, and navigate the latest updates—including the Social Security Fairness Act.
URL:https://www.streamline-ins.com/event/aim-high-maximize-your-social-security-and-protect-your-retireme/
LOCATION:Hesseling & Sons Firearms and Gunsmithing\, Lima\, OH\, United States
END:VEVENT
BEGIN:VEVENT
DTSTART;TZID=America/Chicago:20250325T180000
DTEND;TZID=America/Chicago:20250325T190000
DTSTAMP:20260421T132843
CREATED:20250303T222215Z
LAST-MODIFIED:20250311T152304Z
UID:2974-1742925600-1742929200@www.streamline-ins.com
SUMMARY:Perserve family harmony and protect your family legacy
DESCRIPTION:
URL:https://www.streamline-ins.com/event/perserve-family-harmony-and-protect-your-family-legacy/
LOCATION:The Mansfield Fire Museum\, Mansfield\, OH\, United States
END:VEVENT
END:VCALENDAR